BEGIN:VCALENDAR
VERSION:1.0
BEGIN:VEVENT
CATEGORIES:
STATUS:CONFIRMED
DTSTART:20250204T074000Z
DTEND:20250204T084000Z
SUMMARY:Podjetni imajo prednost
DESCRIPTION:Na tvoji podjetniški poti\, ti lahko Tovarna podjemov pomaga na različne načine. Pridi na dogodek\, kjer ti predstavimo nekaj osnov razvoja podjetniških idej\, specifike razvoja deep tech podjetniških projektov in tudi uspešne podjetniške zgodbe\, ki jih ne smeš spregledati. \n\n
LOCATION:Tovarna podjemov\, Maribor
END:VEVENT
END:VCALENDAR