BEGIN:VCALENDAR
VERSION:1.0
BEGIN:VEVENT
CATEGORIES:
STATUS:CONFIRMED
DTSTART:20240926T100000Z
DTEND:20240926T110000Z
SUMMARY:Akademija inovativnega podjetništva na praktičnih primerih
DESCRIPTION:Na praktičnih primerih boste spoznali celoten proces načrtovanja in gradnje inovativnih podjetij ter osvojili veščine\, ki vas lahko popeljejo do podjetniškega uspeha. \n\n
LOCATION:Medicinska Fakulteta
END:VEVENT
END:VCALENDAR