BEGIN:VCALENDAR
VERSION:1.0
BEGIN:VEVENT
CATEGORIES:
STATUS:CONFIRMED
DTSTART:20171121T150000Z
DTEND:20171121T160000Z
SUMMARY:Delavnica: ABC Facebook oglaševanja
DESCRIPTION:Kako se lotiti Facebook oglaševanja na strateški način\, kakšna pravila je potrebno upoštevati pri pripravi oglasov\, kakšen je recept za pripravo privlačnih oglasov\, kje in komu se splača prikazati oglase\, kako optimizirati oglaševanje in doseči najboljše rezultate ter ne nazadnje\, kako meriti uspešnost celotne kampanje? Na ta in še marsikatera vprašanja\, vam bodo odgovorili strokovnjaki za Facebook iz digitalne agencije Red Orbit\, ki imajo večletne izkušnje z vodenjem različnih oglaševalskih kampanj na Facebooku\, poleg tega pa tudi na dnevni ravni sledijo vsem trendom na Facebooku. \n\n
LOCATION:@Tovarna podjemov\, Maribor
END:VEVENT
END:VCALENDAR