BEGIN:VCALENDAR
VERSION:1.0
BEGIN:VEVENT
CATEGORIES:
STATUS:CONFIRMED
DTSTART:20240829T110000Z
DTEND:20240829T120000Z
SUMMARY:Start:up Maribor Founders Meetup Avgust' 2024
DESCRIPTION: \n\n
LOCATION:NGON\, Glavni trg 17b\, 2000 Maribor 
END:VEVENT
END:VCALENDAR