BEGIN:VCALENDAR
VERSION:1.0
BEGIN:VEVENT
CATEGORIES:
STATUS:CONFIRMED
DTSTART:20240611T160000Z
DTEND:20240611T170000Z
SUMMARY:Zephyr Meetup – spoznaj napredni operacijski sistem za pametne naprave
DESCRIPTION:Se sprašuješ kaj daje “pamet” pametnim napravam\, ki v vse večjem številu vstopajo v naša poslovna in zasebna življenja? Robotske kosilnice\, pametni gospodinjski aparati\, medicinske naprave\, pametni termostati in sledilniki? To so specializirani računalniški programi\, oziroma t.i. embedded sistemi. Eden izmed takšnih je tudi Zaphyr\, odprtokodna rešitev\, ki v tehnološki skupnosti hitro pridobiva na veljavi. Omenjen sistem bo na praktičnim primerih predstavljen na prvem slovenskem Zephyr Meetupu v Mariboru. \n\n
LOCATION:KID KIBLA
END:VEVENT
END:VCALENDAR