BEGIN:VCALENDAR
VERSION:1.0
BEGIN:VEVENT
CATEGORIES:
STATUS:CONFIRMED
DTSTART:20240123T170000Z
DTEND:20240123T180000Z
SUMMARY:Startup Müsli: Kako produkt spremeniti v najboljšega prodajalca.
DESCRIPTION:Način\, kako podjetja pridobivajo\, ohranjajo in širijo svojo bazo strank\, je izredno pomemben proces. Product-Led Growth (PLG) je pristop\, ki preoblikuje ta način. \n\n
LOCATION: Databox Ptuj
END:VEVENT
END:VCALENDAR