BEGIN:VCALENDAR
VERSION:1.0
BEGIN:VEVENT
CATEGORIES:
STATUS:CONFIRMED
DTSTART:20231128T170000Z
DTEND:20231128T180000Z
SUMMARY:Startup Müsli: Kako zagotoviti svež denar za tvoje podjetje. Konkretno.
DESCRIPTION:Pridruži se nam na dogodku in spoznaj različne možnosti in strategije financiranja podjetja od A do Ž\, glede potrebe tvojega podjetja. \n\n
LOCATION: KID Kibla
END:VEVENT
END:VCALENDAR