BEGIN:VCALENDAR
VERSION:1.0
BEGIN:VEVENT
CATEGORIES:
STATUS:CONFIRMED
DTSTART:20231024T160000Z
DTEND:20231024T170000Z
SUMMARY:Mednarodni preboj slovenskih tehnoloških podjetij
DESCRIPTION:Pridi na mreženjski dogodek\, ki bo razkril ključne strategije in izkušnje treh izjemno uspešnih tehnoloških podjetnikov. \n\n
LOCATION: KID Kibla
END:VEVENT
END:VCALENDAR