BEGIN:VCALENDAR
VERSION:1.0
BEGIN:VEVENT
CATEGORIES:
STATUS:CONFIRMED
DTSTART:20231020T140000Z
DTEND:20231020T150000Z
SUMMARY:START:UP VIKEND MARIBOR jesen 2023
DESCRIPTION:Pridruži se nam na Start:up vikendu v Mariboru in razvij veščine\, ki so nujno potrebne za tvoj podjetniški uspeh! \n\n
LOCATION: Tovarna podjemov
END:VEVENT
END:VCALENDAR