BEGIN:VCALENDAR
VERSION:1.0
BEGIN:VEVENT
CATEGORIES:
STATUS:CONFIRMED
DTSTART:20230919T160000Z
DTEND:20230919T170000Z
SUMMARY:Startup Müsli: Od ideje do pacienta: Podjetniške priložnosti v zdravstvu
DESCRIPTION: \n\n
LOCATION: KID Kibla
END:VEVENT
END:VCALENDAR