BEGIN:VCALENDAR
VERSION:1.0
BEGIN:VEVENT
CATEGORIES:
STATUS:CONFIRMED
DTSTART:20230905T160000Z
DTEND:20230905T170000Z
SUMMARY:Startup Müsli: Tik Tok za podjetja - oglaševanje in trendi v 2023
DESCRIPTION: \n\n
LOCATION: KID Kibla
END:VEVENT
END:VCALENDAR