BEGIN:VCALENDAR
VERSION:1.0
BEGIN:VEVENT
CATEGORIES:
STATUS:CONFIRMED
DTSTART:20221122T180000Z
DTEND:20221122T190000Z
SUMMARY:Start:up Müsli: Zakaj je razvoj HARDware res “HARD” in kako vseeno uspeti
DESCRIPTION:Kljub zahtevnosti\, pa ima fizični produkti tudi svoje prednosti\, zato bomo z gosti na tokratnem Start:up Müsliju govorili predvsem o tem\, kako se DA uspešno razvijati fizične produkte in jih pripeljati od začetne ideje do konca. \n\n
LOCATION: KID Kibla
END:VEVENT
END:VCALENDAR