BEGIN:VCALENDAR
VERSION:1.0
BEGIN:VEVENT
CATEGORIES:
STATUS:CONFIRMED
DTSTART:20221128T113000Z
DTEND:20221128T123000Z
SUMMARY:Podjetni imajo prednost
DESCRIPTION:Naše majhno mesto je zagotovo okolje\, ki je zelo naklonjeno podjetništvu. Podjetništva se začneš zares učiti šele\, ko stopiš na njegovo pot. \n\n
LOCATION:Tovarna podjemov
END:VEVENT
END:VCALENDAR