BEGIN:VCALENDAR
VERSION:1.0
BEGIN:VEVENT
CATEGORIES:
STATUS:CONFIRMED
DTSTART:20221205T140000Z
DTEND:20221205T150000Z
SUMMARY:Izdelaj svojo predstavitev na LinkedInu
DESCRIPTION:Pridi na delavnico\, kjer se naučiš pravilno ustvariti in uspešno voditi svoj LinkedIn profil. \n\n
LOCATION: Tovarna podjemov
END:VEVENT
END:VCALENDAR