BEGIN:VCALENDAR
VERSION:1.0
BEGIN:VEVENT
CATEGORIES:
STATUS:CONFIRMED
DTSTART:20221026T130000Z
DTEND:20221026T140000Z
SUMMARY:Osnove vodenja in upravljanja podjetja
DESCRIPTION:Nihče se ne odloči\, da bo slab vodja. Vsak pa lahko poskrbi\, da se mu to ne zgodi. Pridruži se nam na brezplačni delavnici s področja vodenja in upravljanja. \n\n
LOCATION: Tovarna podjemov
END:VEVENT
END:VCALENDAR