BEGIN:VCALENDAR
VERSION:1.0
BEGIN:VEVENT
CATEGORIES:
STATUS:CONFIRMED
DTSTART:20220930T063000Z
DTEND:20220930T073000Z
SUMMARY:Start:up Maribor Founders Meetup September 22'
DESCRIPTION:Udeležba na Founders Meetupu ti omogoča\, da spoznaš nove ljudi\, tiste ki se gibljejo na slovenski startup sceni\, mentorji\, podjetniki\, strokovnjaki\, tisti\, ki ti lahko pomagajo na tvoji podjetniški poti. \n\n
LOCATION: Nana Bistro & Kavarna
END:VEVENT
END:VCALENDAR