BEGIN:VCALENDAR
VERSION:1.0
BEGIN:VEVENT
CATEGORIES:
STATUS:CONFIRMED
DTSTART:20220929T130000Z
DTEND:20220929T140000Z
SUMMARY:Spoznajmo vse elemente TikToka\, vse možnosti montaže in ustvarjajmo
DESCRIPTION:Če želiš ustvarjati TikTok videe\, ki prodajajo\, pridi na delavnico in se nauči kako ustvariti video\, ki prodaja.  \n\n
LOCATION:Tovarna podjemov
END:VEVENT
END:VCALENDAR