BEGIN:VCALENDAR
VERSION:1.0
BEGIN:VEVENT
CATEGORIES:
STATUS:CONFIRMED
DTSTART:20220927T130000Z
DTEND:20220927T140000Z
SUMMARY:Triki in nasveti za uspešno delovanje na TikToku s primeri
DESCRIPTION:Če želiš izkoristiti TikTok kot svojo priložnost pridi na delavnico in začni takoj ustvarjati na tej hitro rastoči platformi. \n\n
LOCATION:Tovarna podjemov
END:VEVENT
END:VCALENDAR