BEGIN:VCALENDAR
VERSION:1.0
BEGIN:VEVENT
CATEGORIES:
STATUS:CONFIRMED
DTSTART:20220928T130000Z
DTEND:20220928T140000Z
SUMMARY:Postavi temelje za uspešno startup podjetje
DESCRIPTION:Pridruži se nam na seriji delavnic\, kjer bomo s preizkušeno metodo postavili temelje za tvoj startup. \n\n
LOCATION:Tovarna podjemov
END:VEVENT
END:VCALENDAR