BEGIN:VCALENDAR
VERSION:1.0
BEGIN:VEVENT
CATEGORIES:
STATUS:CONFIRMED
DTSTART:20220823T130000Z
DTEND:20220823T140000Z
SUMMARY:Pisanje Facebook oglasov v praksi
DESCRIPTION:Želiš kreirati oglase\, ki prodajajo pa ne veš kako? Ali se to sploh da? Seveda. \n\n
LOCATION:Tovarna podjemov
END:VEVENT
END:VCALENDAR