BEGIN:VCALENDAR
VERSION:1.0
BEGIN:VEVENT
CATEGORIES:
STATUS:CONFIRMED
DTSTART:20220822T110000Z
DTEND:20220822T120000Z
SUMMARY:E-mail marketing v praksi
DESCRIPTION:Nauči se pisati tako dobre emaile\, da jih bodo bralci enostavno želeli odpreti. \n\n
LOCATION:Tovarna podjemov
END:VEVENT
END:VCALENDAR