BEGIN:VCALENDAR
VERSION:1.0
BEGIN:VEVENT
CATEGORIES:
STATUS:CONFIRMED
DTSTART:20220614T170000Z
DTEND:20220614T180000Z
SUMMARY:Start:up Müsli: E-mobilnost - priložnosti v naj rastoči panogi tega trenutka
DESCRIPTION:Vabimo te na podjetniški pogovor\, v katerem bomo govorili o poslovnih priložnostih v tej hitro rastoči globalni panogi. \n\n
LOCATION:Tovarna podjemov
END:VEVENT
END:VCALENDAR