BEGIN:VCALENDAR
VERSION:1.0
BEGIN:VEVENT
CATEGORIES:
STATUS:CONFIRMED
DTSTART:20220217T180000Z
DTEND:20220217T190000Z
SUMMARY:Start:up Müsli: Kako zadržati in privlačiti top kadre? 
DESCRIPTION:Dandanes so podjetja v nenehni bitki za konkurenčnost\, za kar potrebujejo tisto stvar\, ki jih bo ločila od tekmecev. Ta ključna stvar\, ni več samo dobra marketinška strategija\, odlična organizacija ali tehnološki značaj\, temveč so talentirani zaposleni. Pridi na Start:up Müsli in s kadrovskimi strokovnjakinjami spoznaj vse\, kar moraš vedeti o tem\, kako privlačiti in zadržati talentirane zaposlene v uspešnih ter tehnoloških podjetjih ter kako jih prepoznati in razvijati. \n\n
LOCATION:Online
END:VEVENT
END:VCALENDAR