BEGIN:VCALENDAR
VERSION:1.0
BEGIN:VEVENT
CATEGORIES:
STATUS:CONFIRMED
DTSTART:20211202T180000Z
DTEND:20211202T190000Z
SUMMARY:Start:up Müsli: Miti in resnice o sodelovanju majhnih in velikih 
DESCRIPTION:Kje se skriva potencial partnerstev\, kako ga poiskati in kje so morebitne pasti poslovnih partnerstev med startupi ter uveljavljenimi podjetji? Odgovore na ta vprašanja bomo skupaj z gosti predstavili na dveh projektih. Prvi je dostava pošiljk z brezpilotnim letalnikom\, ki je projekt Pošte Slovenije in ElevonX\, drugi pa pametna kresnička YourFlair\, ki jo je razvil startup Yflab in v partnerstvo pritegnil podjetje AMZS.   \n\n
LOCATION:Online
END:VEVENT
END:VCALENDAR