BEGIN:VCALENDAR
VERSION:1.0
BEGIN:VEVENT
CATEGORIES:
STATUS:CONFIRMED
DTSTART:20171003T134500Z
DTEND:20171003T144500Z
SUMMARY:Delavnica: Prodaja za startupe
DESCRIPTION:Vse\, ki razvijate nove inovativne produkte v negotovih okoliščinah vabimo na intenzivno dvourno delavnico\, na katerem vam bo Aljoša Huber\, izkušen prodajni strokovnjak iz prakse ter startup mentor\, predstavil ključne korake pri iskanju in pridobivanju prvih kupcev. \n\n
LOCATION:Tovarna podjemov
END:VEVENT
END:VCALENDAR