BEGIN:VCALENDAR
VERSION:1.0
BEGIN:VEVENT
CATEGORIES:
STATUS:CONFIRMED
DTSTART:20170912T140000Z
DTEND:20170912T150000Z
SUMMARY:Delavnica: Kje in kako do denarja za razvoj podjetja?
DESCRIPTION:Ključna naloga podjetnika v zgodnjih fazah razvoja je zagotavljanje finančnih virov za rast in razvoj podjetja. Poleg klasičnih 3F\, bootstrapanja in poslovnih angelov so vam na voljo še javni viri Slovenskega podjetniškega sklada. \n\n
LOCATION:Tovarna podjemov\, podjetniški inkubator UM
END:VEVENT
END:VCALENDAR