BEGIN:VCALENDAR
VERSION:1.0
BEGIN:VEVENT
CATEGORIES:
STATUS:CONFIRMED
DTSTART:20170627T170500Z
DTEND:20170627T180500Z
SUMMARY:Start:up Müsli: IOT - prihodnost povezanega sveta + predpoletno MEGA startup druženje
DESCRIPTION:IoT ali internet stvari velja za enega najpomembnejših trendov\, ki že in še bo oblikoval zasebno in poslovno okolje. Trendi kažejo\, da bodo v prihodnjih letih “pametne” in povezane naprave  postopoma nadomestile staromodne - nepovezane in neumne.  \n\n
LOCATION:KID KIBLA
END:VEVENT
END:VCALENDAR