BEGIN:VCALENDAR
VERSION:1.0
BEGIN:VEVENT
CATEGORIES:
STATUS:CONFIRMED
DTSTART:20141111T180000Z
DTEND:20141111T190000Z
SUMMARY:Startup Müsli: Statistika za hekerje
DESCRIPTION:Gost bo razkrit v kratkem ... \n\n
LOCATION:KIBLA
END:VEVENT
END:VCALENDAR