BEGIN:VCALENDAR
VERSION:1.0
BEGIN:VEVENT
CATEGORIES:
STATUS:CONFIRMED
DTSTART:20170404T170500Z
DTEND:20170404T180500Z
SUMMARY:Start:up Müsli: Od nore ideje do produkta
DESCRIPTION:Pot od ideje do produkta lahko traja nekaj let. Prav tako podjetnikom predstavlja izziv priprava in uvajanje izdelka na trg. Kaj je tisto kar prepriča kupca? Dizajn? Inovativnost? Uporabna vrednost?  Kupci so namreč v visoko konkurenčnem poslovnem svetu zahtevni in ne vedno predvidljivi. 
 \n\n
LOCATION:KID KIBLA
END:VEVENT
END:VCALENDAR