BEGIN:VCALENDAR
VERSION:1.0
BEGIN:VEVENT
CATEGORIES:
STATUS:CONFIRMED
DTSTART:20170307T180500Z
DTEND:20170307T190500Z
SUMMARY:Start:up Müsli: Startup išče finance
DESCRIPTION:Podjetniki na začetku svoje poti gredo skozi različne ovire\, da dosežejo cilje in uresničijo idejo. So neustrašni in se ne predajo\, tudi če tisti trenutek denarja ni na pretek. Na tokratnem start:up Müsliju bomo s tremi govorci govorili o tem kako se prebiti skozi tiste prve težke in krizne trenutke na poti do uspeha.  \n\n
LOCATION:KID KIBLA
END:VEVENT
END:VCALENDAR