BEGIN:VCALENDAR
VERSION:1.0
BEGIN:VEVENT
CATEGORIES:
STATUS:CONFIRMED
DTSTART:20170207T140000Z
DTEND:20170207T150000Z
SUMMARY:Delavnica: Osnove marketinga za startupe
DESCRIPTION:Številna podjetja se marketinga in prodaje lotevajo brez pravega razumevanja ciljne skupine\, trga ter orodij\, ki so jim na voljo za uspešen prodor na trg. 
Na delavnici boste udeleženci spoznali kako pomembno je razumevanje ključnih elementov\, torej ciljne skupine\, trga in orodij za poslovni uspeh.  \n\n
LOCATION:Tovarna podjemov\, podjetniški inkubator UM
END:VEVENT
END:VCALENDAR