BEGIN:VCALENDAR
VERSION:2.0
PRODID:-//AddThisEvent.com v1.0//EN
BEGIN:VEVENT
DTSTAMP:20161115T143000Z
ORGANIZER;CN=STARTUP:MAILTO:info@startup.si
STATUS:CONFIRMED
DTSTART:20161115T143000Z
DTEND:20161115T153000Z
SUMMARY:Delavnica: Kako oblikovati uspešen poslovni model 
DESCRIPTION:Na delavnici se boste podrobneje seznanili s pristopom oblikovanja poslovnega modela\, ki zagotavlja produktu dobre možnosti za uspeh na trgu.  \n\n
X-ALT-DESC;FMTTYPE=text/html:Na delavnici se boste podrobneje seznanili s pristopom oblikovanja poslovnega modela\, ki zagotavlja produktu dobre možnosti za uspeh na trgu.  \n\n
LOCATION:Tovarna podjemov\, podjetniški inkubator UM
END:VEVENT
END:VCALENDAR