BEGIN:VCALENDAR
VERSION:2.0
PRODID:-//AddThisEvent.com v1.0//EN
BEGIN:VEVENT
DTSTAMP:20160308T180500Z
ORGANIZER;CN=STARTUP:MAILTO:info@startup.si
STATUS:CONFIRMED
DTSTART:20160308T180500Z
DTEND:20160308T190500Z
SUMMARY:Start:up Müsli: S startup marketingom nad ustaljene prakse 
DESCRIPTION:Z gurujem startup marketinga Juretom Dolerjem ter startuperjema Dejanom Damišem iz Sportiv.io in Juretom iz Databoxa bomo skušali reševati (digitalne) marketinške in komunikacijske izzive startupov in tudi drugih podjetij\, ki se srečujejo s tovrstnimi izzivi in vprašanji.  \n\n
X-ALT-DESC;FMTTYPE=text/html:Z gurujem startup marketinga Juretom Dolerjem ter startuperjema Dejanom Damišem iz Sportiv.io in Juretom iz Databoxa bomo skušali reševati (digitalne) marketinške in komunikacijske izzive startupov in tudi drugih podjetij\, ki se srečujejo s tovrstnimi izzivi in vprašanji.  \n\n
LOCATION:KID KIBLA
END:VEVENT
END:VCALENDAR