BEGIN:VCALENDAR
VERSION:2.0
PRODID:-//AddThisEvent.com v1.0//EN
BEGIN:VEVENT
DTSTAMP:20151110T180500Z
ORGANIZER;CN=STARTUP:MAILTO:info@startup.si
STATUS:CONFIRMED
DTSTART:20151110T180500Z
DTEND:20151110T190500Z
SUMMARY:Startup Müsli: Odkrij\, prepričaj\, prodaj
DESCRIPTION:Brez denarja in prvih kupcev ni potrditve ideje in uresničevanja vizije. Zato bomo tokrat spregovorili s startupom\, kupcem in psihologinjo na temo prodaje\, iskanja pravih strank\, prepričevanja in argumenti-ranja produkta ter na koncu seveda prodaje in gradnje dolgoročnega odnosa s stranko. \n\n
X-ALT-DESC;FMTTYPE=text/html:Brez denarja in prvih kupcev ni potrditve ideje in uresničevanja vizije. Zato bomo tokrat spregovorili s startupom\, kupcem in psihologinjo na temo prodaje\, iskanja pravih strank\, prepričevanja in argumenti-ranja produkta ter na koncu seveda prodaje in gradnje dolgoročnega odnosa s stranko. \n\n
LOCATION:KID KIBLA
END:VEVENT
END:VCALENDAR