BEGIN:VCALENDAR
VERSION:2.0
PRODID:-//AddThisEvent.com v1.0//EN
BEGIN:VEVENT
DTSTAMP:20151027T140000Z
ORGANIZER;CN=STARTUP:MAILTO:info@startup.si
STATUS:CONFIRMED
DTSTART:20151027T140000Z
DTEND:20151027T150000Z
SUMMARY:Delavnica: Zmagovalna miselnost
DESCRIPTION:Na delavnici bodo udeleženci spoznali kako narediti miselni preskok iz povprečnosti v odličnost in konkretne prijeme za doseganje zmag v poslu. \n\n
X-ALT-DESC;FMTTYPE=text/html:Na delavnici bodo udeleženci spoznali kako narediti miselni preskok iz povprečnosti v odličnost in konkretne prijeme za doseganje zmag v poslu. \n\n
LOCATION:Tovarna podjemov\, podjetniški inkubator UM
END:VEVENT
END:VCALENDAR