BEGIN:VCALENDAR
VERSION:2.0
PRODID:-//AddThisEvent.com v1.0//EN
BEGIN:VEVENT
DTSTAMP:20151021T073000Z
ORGANIZER;CN=STARTUP:MAILTO:info@startup.si
STATUS:CONFIRMED
DTSTART:20151021T073000Z
DTEND:20151021T083000Z
SUMMARY:Biti podjetnik je cool
DESCRIPTION:Študenti\, raziskovalci in profesorji ter vsi drugi inovativni posamezniki\, če vas pogajanja ustvarjalni podjetniški nemir\, pridružite se nam!  \n\n
X-ALT-DESC;FMTTYPE=text/html:Študenti\, raziskovalci in profesorji ter vsi drugi inovativni posamezniki\, če vas pogajanja ustvarjalni podjetniški nemir\, pridružite se nam!  \n\n
LOCATION:Filozofska fakulteta
END:VEVENT
END:VCALENDAR