BEGIN:VCALENDAR
VERSION:2.0
PRODID:-//AddThisEvent.com v1.0//EN
BEGIN:VEVENT
DTSTAMP:20211118T180000Z
ORGANIZER;CN=STARTUP:MAILTO:info@startup.si
STATUS:CONFIRMED
DTSTART:20211118T180000Z
DTEND:20211118T190000Z
SUMMARY:Start:up Müsli: Kako uspeti na zasičenem trgu 
DESCRIPTION:Pridi na Start:up Müsli\, ko bomo s tremi gosti iskali odgovor na vprašanja kako izstopati na trgu\, kako komunicirati svojo drugačnost in dodano vrednost\, kako se pozicionirati znotraj svoje branže in kakšno komunikacijo ubrati\, da boste pritegnili prave kupce in jim zlezli pod kožo.  \n\n
X-ALT-DESC;FMTTYPE=text/html:Pridi na Start:up Müsli\, ko bomo s tremi gosti iskali odgovor na vprašanja kako izstopati na trgu\, kako komunicirati svojo drugačnost in dodano vrednost\, kako se pozicionirati znotraj svoje branže in kakšno komunikacijo ubrati\, da boste pritegnili prave kupce in jim zlezli pod kožo.  \n\n
LOCATION:Online
END:VEVENT
END:VCALENDAR