BEGIN:VCALENDAR
VERSION:2.0
PRODID:-//AddThisEvent.com v1.0//EN
BEGIN:VEVENT
DTSTAMP:20211104T180000Z
ORGANIZER;CN=STARTUP:MAILTO:info@startup.si
STATUS:CONFIRMED
DTSTART:20211104T180000Z
DTEND:20211104T190000Z
SUMMARY:Start:up Müsli: Kako smo v petih letih zgradili samoroga 
DESCRIPTION:Dansko podjetje Pleo velja za enega najhitreje rastočih evropskih fintech podjetij\, ki je v petih letih prejelo 228.8 milijona $ investicij tveganega kapitala. Mariborčan Alen Cvišić je bil prvi zaposlen v podjetju in od samega začetka vodi marketinški oddelek. V pogovoru bo z nami delil izkušnjo\, kako je voditi eno izmed ključnih funkcij hitrorastočega podjetja. \n\n
X-ALT-DESC;FMTTYPE=text/html:Dansko podjetje Pleo velja za enega najhitreje rastočih evropskih fintech podjetij\, ki je v petih letih prejelo 228.8 milijona $ investicij tveganega kapitala. Mariborčan Alen Cvišić je bil prvi zaposlen v podjetju in od samega začetka vodi marketinški oddelek. V pogovoru bo z nami delil izkušnjo\, kako je voditi eno izmed ključnih funkcij hitrorastočega podjetja. \n\n
LOCATION:Online in Tovarna podjemov
END:VEVENT
END:VCALENDAR