BEGIN:VCALENDAR
VERSION:2.0
PRODID:-//AddThisEvent.com v1.0//EN
BEGIN:VEVENT
DTSTAMP:20211118T120000Z
ORGANIZER;CN=STARTUP:MAILTO:info@startup.si
STATUS:CONFIRMED
DTSTART:20211118T120000Z
DTEND:20211118T130000Z
SUMMARY:Kako na spletu zgraditi prepoznavno osebno blagovno znamko
DESCRIPTION:Ne glede na to\, ali si zaposlen ali podjetnik\, je gradnja osebne blagovne znamke postala zelo pomemben del marketinške strategije. Zakaj je pomembno graditi svojo osebno blagovno znamko? Raziskave so pokazale\, da kar 78 % uporabnikov interneta raje kupuje od osebe kot od podjetja\, najmanj pa od logotipa. 
 \n\n
X-ALT-DESC;FMTTYPE=text/html:Ne glede na to\, ali si zaposlen ali podjetnik\, je gradnja osebne blagovne znamke postala zelo pomemben del marketinške strategije. Zakaj je pomembno graditi svojo osebno blagovno znamko? Raziskave so pokazale\, da kar 78 % uporabnikov interneta raje kupuje od osebe kot od podjetja\, najmanj pa od logotipa. 
 \n\n
LOCATION:Online
END:VEVENT
END:VCALENDAR