BEGIN:VCALENDAR
VERSION:2.0
PRODID:-//AddThisEvent.com v1.0//EN
BEGIN:VEVENT
DTSTAMP:20211117T120000Z
ORGANIZER;CN=STARTUP:MAILTO:info@startup.si
STATUS:CONFIRMED
DTSTART:20211117T120000Z
DTEND:20211117T130000Z
SUMMARY:ABC davkov za podjetja
DESCRIPTION:Imaš podjetje ali pa je to tik pred ustanovitvijo in nimaš pojma o davkih?

 \n\n
X-ALT-DESC;FMTTYPE=text/html:Imaš podjetje ali pa je to tik pred ustanovitvijo in nimaš pojma o davkih?

 \n\n
LOCATION:Online
END:VEVENT
END:VCALENDAR