BEGIN:VCALENDAR
VERSION:2.0
PRODID:-//AddThisEvent.com v1.0//EN
BEGIN:VEVENT
DTSTAMP:20211104T120000Z
ORGANIZER;CN=STARTUP:MAILTO:info@startup.si
STATUS:CONFIRMED
DTSTART:20211104T120000Z
DTEND:20211104T130000Z
SUMMARY:Kako Facebook vključiti v svoje prodajne aktivnosti
DESCRIPTION:Izkoristi največje družbeno omrežje za grajenje blagovne znamke in povečanje prihodkov! Facebook ni samo objavljanje fotografij in videev\, ampak je pomemben del prodajnega procesa. Zelo pomemben je za negovanje strank\, grajenje skupnosti in za prepoznavnost podjetja. 
 \n\n
X-ALT-DESC;FMTTYPE=text/html:Izkoristi največje družbeno omrežje za grajenje blagovne znamke in povečanje prihodkov! Facebook ni samo objavljanje fotografij in videev\, ampak je pomemben del prodajnega procesa. Zelo pomemben je za negovanje strank\, grajenje skupnosti in za prepoznavnost podjetja. 
 \n\n
LOCATION:Online
END:VEVENT
END:VCALENDAR