BEGIN:VCALENDAR
VERSION:2.0
PRODID:-//AddThisEvent.com v1.0//EN
BEGIN:VEVENT
DTSTAMP:20211026T110000Z
ORGANIZER;CN=STARTUP:MAILTO:info@startup.si
STATUS:CONFIRMED
DTSTART:20211026T110000Z
DTEND:20211026T120000Z
SUMMARY:Uspešno na Kickstarter z Nikom Klanškom  
DESCRIPTION:Na Kickstarterju lahko zasledimo ogromno kampanj\, a le redke dosežejo svoj cilj in uspejo izdelke pripeljati tudi do podpornikov. Slovenci so narod\, ki na Kickstarterju žanjemo nepredstavljive uspehe. Za mnogo kampanjami je kot snovalec oziroma svetovalec stal prav Niko Klanšek. Zato te bo prav on na 3-urni delavnici naučil\, kako celovito pripraviti in voditi uspešno crowdfunding kampanjo.  \n\n
X-ALT-DESC;FMTTYPE=text/html:Na Kickstarterju lahko zasledimo ogromno kampanj\, a le redke dosežejo svoj cilj in uspejo izdelke pripeljati tudi do podpornikov. Slovenci so narod\, ki na Kickstarterju žanjemo nepredstavljive uspehe. Za mnogo kampanjami je kot snovalec oziroma svetovalec stal prav Niko Klanšek. Zato te bo prav on na 3-urni delavnici naučil\, kako celovito pripraviti in voditi uspešno crowdfunding kampanjo.  \n\n
LOCATION:Tovarna podjemov
END:VEVENT
END:VCALENDAR