BEGIN:VCALENDAR
VERSION:2.0
PRODID:-//AddThisEvent.com v1.0//EN
BEGIN:VEVENT
DTSTAMP:20211014T130000Z
ORGANIZER;CN=STARTUP:MAILTO:info@startup.si
STATUS:CONFIRMED
DTSTART:20211014T130000Z
DTEND:20211014T140000Z
SUMMARY:Koraki do uspešne prodaje na Amazonu 
DESCRIPTION:Amazon\, ki se je razvil iz prodajalca knjig\, je danes največji spletni trgovec\, ki v ZDA izvede več kot 50 % vseh spletnih nakupov. Njegova rast je izjemna in se bo iz leta v leto le še povečevala. Je trgovec\, ki je vedno korak pred konkurenco\, saj neprestano ponuja nove storitve\, s katerimi razvaja svoje kupce in dviguje stopnjo zaupanja. Pridi na delavnico z Nikom\, kjer ti bo skozi svojo izkušnjo predstavil vse aspekte poslovanja in prodaje na Amazonu in odkrij tvoj nov dobičkonosni prodajni kanal. \n\n
X-ALT-DESC;FMTTYPE=text/html:Amazon\, ki se je razvil iz prodajalca knjig\, je danes največji spletni trgovec\, ki v ZDA izvede več kot 50 % vseh spletnih nakupov. Njegova rast je izjemna in se bo iz leta v leto le še povečevala. Je trgovec\, ki je vedno korak pred konkurenco\, saj neprestano ponuja nove storitve\, s katerimi razvaja svoje kupce in dviguje stopnjo zaupanja. Pridi na delavnico z Nikom\, kjer ti bo skozi svojo izkušnjo predstavil vse aspekte poslovanja in prodaje na Amazonu in odkrij tvoj nov dobičkonosni prodajni kanal. \n\n
LOCATION:Tovarna podjemov
END:VEVENT
END:VCALENDAR