BEGIN:VCALENDAR
VERSION:2.0
PRODID:-//AddThisEvent.com v1.0//EN
BEGIN:VEVENT
DTSTAMP:20211007T170000Z
ORGANIZER;CN=STARTUP:MAILTO:info@startup.si
STATUS:CONFIRMED
DTSTART:20211007T170000Z
DTEND:20211007T180000Z
SUMMARY:Start:up Müsli: Pot od zaznane potrebe do milijonske prodaje
DESCRIPTION:Letos spomladi je odjeknila še ena uspešna slovenska startup zgodba: prodaja podjetja Cleanshelf nemškemu tehnološkemu podjetju LeanIX. Pridi na Start:up Müsli\, ko bomo govorili z ustanoviteljem Cleanshelfa Dušanom Omerčevičem in njegovi zgodbi uspeha.  \n\n
X-ALT-DESC;FMTTYPE=text/html:Letos spomladi je odjeknila še ena uspešna slovenska startup zgodba: prodaja podjetja Cleanshelf nemškemu tehnološkemu podjetju LeanIX. Pridi na Start:up Müsli\, ko bomo govorili z ustanoviteljem Cleanshelfa Dušanom Omerčevičem in njegovi zgodbi uspeha.  \n\n
LOCATION:Tovarna podjemov
END:VEVENT
END:VCALENDAR