BEGIN:VCALENDAR
VERSION:2.0
PRODID:-//AddThisEvent.com v1.0//EN
BEGIN:VEVENT
DTSTAMP:20210928T170000Z
ORGANIZER;CN=STARTUP:MAILTO:info@startup.si
STATUS:CONFIRMED
DTSTART:20210928T170000Z
DTEND:20210928T180000Z
SUMMARY:Start:up Müsli: Iščemo recept za uspešno spletno trgovino
DESCRIPTION:Volumen globalne spletne prodaje se je iz 2020 na 2021 povečal za več kot četrtino! Delež spletnih nakupov se po pričakovanjih strokovnjakov povečal iz zdajšnjih 15 % na 25 % v 2025! A spletni trgovci niso pred lahko nalogo. Pridobivanje kupcev se draži\, tehnologija je postala kompleksnejša. Pridi na podjetniški večer in spoznaj zakulisje nekaterih slovenskih spletnih trgovcev. \n\n
X-ALT-DESC;FMTTYPE=text/html:Volumen globalne spletne prodaje se je iz 2020 na 2021 povečal za več kot četrtino! Delež spletnih nakupov se po pričakovanjih strokovnjakov povečal iz zdajšnjih 15 % na 25 % v 2025! A spletni trgovci niso pred lahko nalogo. Pridobivanje kupcev se draži\, tehnologija je postala kompleksnejša. Pridi na podjetniški večer in spoznaj zakulisje nekaterih slovenskih spletnih trgovcev. \n\n
LOCATION:Tovarna podjemov
END:VEVENT
END:VCALENDAR