BEGIN:VCALENDAR
VERSION:2.0
PRODID:-//AddThisEvent.com v1.0//EN
BEGIN:VEVENT
DTSTAMP:20210930T090000Z
ORGANIZER;CN=STARTUP:MAILTO:info@startup.si
STATUS:CONFIRMED
DTSTART:20210930T090000Z
DTEND:20210930T100000Z
SUMMARY:Pravne pasti za podjetnike - kako jih prepoznati in se jim izogniti
DESCRIPTION:Napake so sestavni del vsakega procesa. To velja tudi za podjetnike\, medtem ko razvijajo svojo poslovno idejo. Podjetniška praksa je pokazala\, da se nekatere napake pogosto ponavljajo\, kljub temu\, da bi se jim dalo v celoti izogniti. Na delavnici si bomo podrobneje pogledali nekaj takih primerov. Pa tudi\, kako se takim tipičnim napakam izogniti ali rešiti nastalo »škodo«. \n\n
X-ALT-DESC;FMTTYPE=text/html:Napake so sestavni del vsakega procesa. To velja tudi za podjetnike\, medtem ko razvijajo svojo poslovno idejo. Podjetniška praksa je pokazala\, da se nekatere napake pogosto ponavljajo\, kljub temu\, da bi se jim dalo v celoti izogniti. Na delavnici si bomo podrobneje pogledali nekaj takih primerov. Pa tudi\, kako se takim tipičnim napakam izogniti ali rešiti nastalo »škodo«. \n\n
LOCATION:Tovarna podjemov
END:VEVENT
END:VCALENDAR