BEGIN:VCALENDAR
VERSION:2.0
PRODID:-//AddThisEvent.com v1.0//EN
BEGIN:VEVENT
DTSTAMP:20210930T120000Z
ORGANIZER;CN=STARTUP:MAILTO:info@startup.si
STATUS:CONFIRMED
DTSTART:20210930T120000Z
DTEND:20210930T130000Z
SUMMARY:Start:up Maribor Founders Meetup September 21'
DESCRIPTION:Po poletnem oddihu ste po pripovedovanju mnogih izmed vas v septembru vsi pljunili v roke in zagrizli v nove izzive. Ko gradiš podjetje\, dela nikoli ne zmanjka in dan vedno šteje premalo ur. A za poslovni uspeh si je tu in tam treba vzeti čas za oddih\, sploh pa za druženje s člani mariborske startup skupnosti. Pridruži se nam na mesečnem srečanju Start:up Maribor Founders Meetup\, tokrat spet v živo! \n\n
X-ALT-DESC;FMTTYPE=text/html:Po poletnem oddihu ste po pripovedovanju mnogih izmed vas v septembru vsi pljunili v roke in zagrizli v nove izzive. Ko gradiš podjetje\, dela nikoli ne zmanjka in dan vedno šteje premalo ur. A za poslovni uspeh si je tu in tam treba vzeti čas za oddih\, sploh pa za druženje s člani mariborske startup skupnosti. Pridruži se nam na mesečnem srečanju Start:up Maribor Founders Meetup\, tokrat spet v živo! \n\n
LOCATION:Cafe Wetrinsky
END:VEVENT
END:VCALENDAR