BEGIN:VCALENDAR
VERSION:2.0
PRODID:-//AddThisEvent.com v1.0//EN
BEGIN:VEVENT
DTSTAMP:20210826T170000Z
ORGANIZER;CN=STARTUP:MAILTO:info@startup.si
STATUS:CONFIRMED
DTSTART:20210826T170000Z
DTEND:20210826T180000Z
SUMMARY:Start:up Müsli: Od pekla do nebes - podjetniški vsakdan
DESCRIPTION:Od grizenja nohtov zaradi skrbi\, kako preživeti tekoči mesec\, do razprodanih produktov v naslednjem mesecu – to je pot vzponov in padcev podjetnikov\, ki potrebujejo res trdo kožo\, da se lahko soočajo s takimi turbulencami. Pridi na Start:up Müsli in spoznaj danes 3 uspešne podjetniške zgodbe. \n\n
X-ALT-DESC;FMTTYPE=text/html:Od grizenja nohtov zaradi skrbi\, kako preživeti tekoči mesec\, do razprodanih produktov v naslednjem mesecu – to je pot vzponov in padcev podjetnikov\, ki potrebujejo res trdo kožo\, da se lahko soočajo s takimi turbulencami. Pridi na Start:up Müsli in spoznaj danes 3 uspešne podjetniške zgodbe. \n\n
LOCATION:Tovarna podjemov
END:VEVENT
END:VCALENDAR