BEGIN:VCALENDAR
VERSION:2.0
PRODID:-//AddThisEvent.com v1.0//EN
BEGIN:VEVENT
DTSTAMP:20210628T080000Z
ORGANIZER;CN=STARTUP:MAILTO:info@startup.si
STATUS:CONFIRMED
DTSTART:20210628T080000Z
DTEND:20210628T090000Z
SUMMARY:Design thinking in vitko podjetništvo v praksi
DESCRIPTION:Prijavi se na 3-dnevni online program\, ki bo potekal z vrhunskimi mednarodno uveljavljenimi trenerji iz Hasso Plattner Instituta in ti omogočil tako teoretični kot praktični vpogled v design thinking in vitko podjetništvo. \n\n
X-ALT-DESC;FMTTYPE=text/html:Prijavi se na 3-dnevni online program\, ki bo potekal z vrhunskimi mednarodno uveljavljenimi trenerji iz Hasso Plattner Instituta in ti omogočil tako teoretični kot praktični vpogled v design thinking in vitko podjetništvo. \n\n
LOCATION:Online
END:VEVENT
END:VCALENDAR