BEGIN:VCALENDAR
VERSION:2.0
PRODID:-//AddThisEvent.com v1.0//EN
BEGIN:VEVENT
DTSTAMP:20210310T080000Z
ORGANIZER;CN=STARTUP:MAILTO:info@startup.si
STATUS:CONFIRMED
DTSTART:20210310T080000Z
DTEND:20210310T090000Z
SUMMARY:Roadshow Maribor 2021
DESCRIPTION:Dogodek za podjetnike\, ki iščete denar\, prave kontakte\, pospeševalniške programe in mentorje za zagon ter rast vašega podjetja. Dobili boste ključne informacije o razpisih P2\, SK75 in SI-SK\, spoznali ocenjevalne kriterije\, proces predselekcije\, pomembne datume in roke za prijavo ter številne nasvete\, kako uspeti na razpisu. \n\n
X-ALT-DESC;FMTTYPE=text/html:Dogodek za podjetnike\, ki iščete denar\, prave kontakte\, pospeševalniške programe in mentorje za zagon ter rast vašega podjetja. Dobili boste ključne informacije o razpisih P2\, SK75 in SI-SK\, spoznali ocenjevalne kriterije\, proces predselekcije\, pomembne datume in roke za prijavo ter številne nasvete\, kako uspeti na razpisu. \n\n
LOCATION:Online
END:VEVENT
END:VCALENDAR